BEGIN:VCALENDAR
VERSION:2.0
PRODID:-//CERN//INDICO//EN
BEGIN:VEVENT
SUMMARY:Introducion\, plans and discussion
DTSTART;VALUE=DATE-TIME:20260421T150000Z
DTEND;VALUE=DATE-TIME:20260421T151000Z
DTSTAMP;VALUE=DATE-TIME:20260421T145552Z
UID:indico-contribution-5495@cern.ch
DESCRIPTION:Speakers: Evgeny Soldatov (MEPhI)\, Peter Teterin (National Re
 search Nuclear University "MEPhI")\nhttps://indico.particle.mephi.ru/event
 /622/contributions/5495/
LOCATION:НИЯУ МИФИ Э-102a
URL:https://indico.particle.mephi.ru/event/622/contributions/5495/
END:VEVENT
END:VCALENDAR
