BEGIN:VCALENDAR
VERSION:2.0
PRODID:-//CERN//INDICO//EN
BEGIN:VEVENT
SUMMARY:Reconstruction ST\, ECAL\, occupancies
DTSTART;VALUE=DATE-TIME:20260421T153000Z
DTEND;VALUE=DATE-TIME:20260421T154000Z
DTSTAMP;VALUE=DATE-TIME:20260421T233035Z
UID:indico-contribution-5497@cern.ch
DESCRIPTION:Speakers: Andrey Durov (Ilyich)\, Arina Lazareva ()\, Григ
 орий Петров ()\nhttps://indico.particle.mephi.ru/event/622/contr
 ibutions/5497/
LOCATION:НИЯУ МИФИ Э-102a
URL:https://indico.particle.mephi.ru/event/622/contributions/5497/
END:VEVENT
END:VCALENDAR
