BEGIN:VCALENDAR
VERSION:2.0
PRODID:-//CERN//INDICO//EN
BEGIN:VEVENT
SUMMARY:Updates from Filipp&co
DTSTART;VALUE=DATE-TIME:20260421T160500Z
DTEND;VALUE=DATE-TIME:20260421T161500Z
DTSTAMP;VALUE=DATE-TIME:20260421T145547Z
UID:indico-contribution-5498@cern.ch
DESCRIPTION:Speakers: Filipp Dubinin (Lebedev Physical Institute)\, Filipp
  Dubinin (LPI RAS)\, Артём Золотаревский ()\, Артём
  Кузьмин (НИЯУ МИФИ)\nhttps://indico.particle.mephi.ru/even
 t/622/contributions/5498/
LOCATION:НИЯУ МИФИ Э-102a
URL:https://indico.particle.mephi.ru/event/622/contributions/5498/
END:VEVENT
END:VCALENDAR
