BEGIN:VCALENDAR
VERSION:2.0
PRODID:-//CERN//INDICO//EN
BEGIN:VEVENT
SUMMARY:Updates from Arseniy&co
DTSTART;VALUE=DATE-TIME:20260421T161500Z
DTEND;VALUE=DATE-TIME:20260421T162500Z
DTSTAMP;VALUE=DATE-TIME:20260421T145547Z
UID:indico-contribution-5499@cern.ch
DESCRIPTION:Speakers: Arseny Zakharov ()\, Dina Shafikova ()\, Ксени
 я Тертышная ()\nhttps://indico.particle.mephi.ru/event/622/contr
 ibutions/5499/
LOCATION:НИЯУ МИФИ Э-102a
URL:https://indico.particle.mephi.ru/event/622/contributions/5499/
END:VEVENT
END:VCALENDAR
