BEGIN:VCALENDAR
VERSION:2.0
PRODID:-//CERN//INDICO//EN
BEGIN:VEVENT
SUMMARY:J/Psi angular coefficients study
DTSTART;VALUE=DATE-TIME:20260421T154000Z
DTEND;VALUE=DATE-TIME:20260421T155000Z
DTSTAMP;VALUE=DATE-TIME:20260421T145552Z
UID:indico-contribution-5501@cern.ch
DESCRIPTION:Speakers: Mikhail Bykovskiy ()\, Oleg Bulekov ()\nhttps://indi
 co.particle.mephi.ru/event/622/contributions/5501/
LOCATION:НИЯУ МИФИ Э-102a
URL:https://indico.particle.mephi.ru/event/622/contributions/5501/
END:VEVENT
END:VCALENDAR
