BEGIN:VCALENDAR
VERSION:2.0
PRODID:-//CERN//INDICO//EN
BEGIN:VEVENT
SUMMARY:Computing resources
DTSTART;VALUE=DATE-TIME:20260421T155000Z
DTEND;VALUE=DATE-TIME:20260421T155500Z
DTSTAMP;VALUE=DATE-TIME:20260421T233035Z
UID:indico-contribution-5502@cern.ch
DESCRIPTION:Speakers: Sergei Smirnov (NRNU MEPhI)\nhttps://indico.particle
 .mephi.ru/event/622/contributions/5502/
LOCATION:НИЯУ МИФИ Э-102a
URL:https://indico.particle.mephi.ru/event/622/contributions/5502/
END:VEVENT
END:VCALENDAR
